BEGIN:VCALENDAR
VERSION:2.0
BEGIN:VEVENT
UID:191575CA-1743-40DB-813A-D2EC7FA900DB
DTSTART:20220407T173000Z
DTEND:20220407T193000Z
SUMMARY:Leadership Lessons from the Trail
DESCRIPTION:The Scott Murray Scholarship Fund welcomes authors Stratton Hor
 res and Basketball Hall of Famer Sidney Moncrief to a chat with Scott Murr
 ay about their new book\, Leadership Lessons from the Trail . The event ki
 cks off the Campaign to raise funds for the student scholarship awards. \n
 The Scott Murray Scholarship Fund awards grants to highly motivated studen
 ts who intend to pursue part-time or full-time undergraduate\, technical\,
  or vocational schools. Our recipients represent all fields of study\, and
  we award scholarships without regard to age\, gender\, race\, creed\, rel
 igion\, or national origin. By removing some of the financial burdens asso
 ciated with continuing education\, Scott Murray Scholarship Fund plays a v
 ital role in increasing success for many motivated yet under-served indivi
 duals in our North Texas community. \nMr. Horres\, after a more than 40-ye
 ar law career is active in youth leadership education and involved with th
 e All Stars Project and the NBA Retired Players Association of North Texas
 . Coach Moncrief is a five-time NBA All-Star\, a five-time member of the N
 BA All-Defensive team\, a two-time NBA Defensive Player of the Year\, and
  a NBA All-Pro. \n Events Details \nSpring Celebration \nThursday April 7\
 , 2022 . 5:30 to 7:30 p.m. \nMuseum of Biblical Art \n7500 Park Lane\, Dal
 las 75225 \nLight hors d’oeuvres and wine \n  \n$25 at the door. RSVP by M
 arch 31 to 214-502-0306 \nThank you to Event Sponsors ETHNE | Gigi Gartner
 \nMuseum of Biblical Art\n7500 Park Lane\nDallas\, TX 75225 United States\
 n
LOCATION:7500 Park Lane\, Dallas\, TX 75225
URL:http://oakcliff.bubblelife.com/community/oak_cliff_calendar/library/356
 2140/key/3511104340/Leadership_Lessons_from_the_Trail
CREATED:20220328T162021Z
LAST-MODIFIED:20220328T162021Z
DTSTAMP:20260421T103339Z
CLASS:PUBLIC
STATUS:CONFIRMED
TRANSP:TRANSPARENT
SEQUENCE:1
END:VEVENT
END:VCALENDAR
