BEGIN:VCALENDAR
VERSION:2.0
BEGIN:VEVENT
UID:8048E8A0-F017-4E3C-8D29-4E56A4FB64D7
DTSTART:20220618T150000Z
DTEND:20220618T170000Z
SUMMARY:Fathers’ Day Remembrance Classic Car Show
DESCRIPTION:Hughes Family Tribute Center will hold a Father’s Day Open Hous
 e and Classic Car Show on Saturday\, June 18 from 3:00 to 5:00 p.m. The pu
 blic is invited to tour their new 13\,610 square-foot facility\, ogle clas
 sic Chevy cars\, and enjoy food and drink. The Center is partnering with t
 he Dallas Area Classic Chevy Club\, http://www.dallasclassicchevy.com\, an
 d Car’s Kitchen for this event. \n Event Details: \nSaturday\, June 18\, 2
 022 \n3:00 to 5:00 p.m. \nHughes Family Tribute Center \n9700 Webb Chapel
  Road\, Dallas\, Texas 75220\nHughes Family Tribute\n9700 Webb Chapel Road
 \nDallas\, TX 75220 United States\n
LOCATION:9700 Webb Chapel Road\, Dallas\, TX 75220
URL:http://oakcliff.bubblelife.com/community/oak_cliff_calendar/library/356
 2140/key/3511176271/Fathers_Day_Remembrance_Classic_Car_Show
CREATED:20220601T154253Z
LAST-MODIFIED:20220601T154253Z
DTSTAMP:20260421T103311Z
CLASS:PUBLIC
STATUS:CONFIRMED
TRANSP:TRANSPARENT
SEQUENCE:1
END:VEVENT
END:VCALENDAR
