BEGIN:VCALENDAR
VERSION:2.0
BEGIN:VEVENT
UID:184B2685-73A6-41FE-B072-EBFF75E56E0D
DTSTART:20240427T173000Z
DTEND:20240427T190000Z
SUMMARY:Crime Victims Awareness Candlelight Vigil
DESCRIPTION:The Hughes Family Tribute Center will host a Candlelight Vigil
  on Saturday\, April 27\, 2024 at 5:30 p.m. to honor and remember those wh
 o were taken from us as victims of crimes. A brief service will be held\,
  followed by the Vigil. Candles will be provided to attendees. \n   “Losin
 g a loved one to a crime is a profoundly harrowing and challenging ordeal.
   Our solemn mission during this Candlelight Vigil is to pay tribute to an
 d cherish the memories of those who have fallen victim to crime.  Through
  this gathering\, we aim to provide solace and support to their bereaved f
 amilies\, guiding them along the arduous journey of grief towards a pathwa
 y of healing and renewal\,” said Stephanie Hughes\, owner and funeral dire
 ctor. \n   This event is part of the National Crime Victims’ Rights Week.
  Every April \, the national Office of Victims of Crime leads communities
  throughout the country in their annual observances of National Crime Vict
 ims’ Rights Week. The events honor crime victims and survivors\, recognize
  the professionals and volunteers who provide critical services to victims
  of crime\, and raise awareness about crime victims’ rights and services.
  \n The national theme this year is How would you help ? \nThe 2024 theme
  asks all of us—friends\, family members\, neighbors\, colleagues\, commun
 ity leaders\, victim service providers\, criminal justice practitioners\,
  and health professionals—how we can help crime victims. Are you prepared
  if someone confides in you about a victimization? Is your organization vi
 ctim-centered and trauma-informed? Are you familiar with the services avai
 lable in your community?\nHughes Family Tribute Center\n9700 Webb Chapel R
 oad\nDallas\, TX 75220 United States\n
LOCATION:9700 Webb Chapel Road\, Dallas\, TX 75220
URL:http://oakcliff.bubblelife.com/community/oak_cliff_calendar/library/356
 2140/key/3511220074/Crime_Victims_Awareness_Candlelight_Vigil
CREATED:20240408T214921Z
LAST-MODIFIED:20240408T214921Z
DTSTAMP:20260421T090725Z
CLASS:PUBLIC
STATUS:CONFIRMED
TRANSP:TRANSPARENT
SEQUENCE:1
END:VEVENT
END:VCALENDAR
