BEGIN:VCALENDAR
VERSION:2.0
BEGIN:VEVENT
UID:7D1D20D2-8E7E-4647-B448-C9AA14483E95
DTSTART:20230311T090000Z
DTEND:20230318T160000Z
SUMMARY:Equinox - Descenso de la Serpiente
DESCRIPTION:Equinox: Descenso de la Serpiente by artist Ricardo Alarcón exp
 lores the Mayan cultural traditions around the Solar Equinox including the
  “descent of the serpent\,” the great god Kukulcan or feathered serpent\,
  in the form of shadows on the Temple of Kukulcan at Chichen Itza\, an arc
 heological site in the Mexican state of Yucatan. \n“I hope to share with m
 ore people this important Mexican and Central American cultural heritage a
 nd its celebration of the indigenous traditions and to increase public kno
 wledge of the long history of the indigenous peoples among all of us today
  whether they be descendants of the Mayans\, descendants of Mexican and Ce
 ntral American immigrants\, recent immigrants\, or descendants of other pe
 oples around the world. History is written by the winners\, but the storie
 s of the "losers" of history have wisdom and meaning for all of us\,” said
  Mr. Alarcón. \nEach Saturday of the exhibit (March 11 and March 18) will
  include music\, dancing\, and demonstrations of the Mayan ball game. The
  art exhibition will feature the works of artists: \nManuel Pecina \nAbel
  Leal \n Exhibition Details \nFree Admission \n Equinox – Descenso de la S
 erpiente by Ricardo Alarcón is sponsored by the City of Dallas Office of A
 rts and Culture. The exhibit is hosted by the Dallas Public Library. Ricar
 do Alarcón serves as the artistic director of the annual Día de los Muerto
 s Celebración and other Hispanic community outreach events presented by th
 e Hughes Family Tribute Center in Dallas.\nJ. Erik Jonsson Central Library
 \n1515 Young Street\nDallas\, TX 75201 United States\n
LOCATION:1515 Young Street\, Dallas\, TX 75201
URL:http://oakcliff.bubblelife.com/community/oak_cliff_calendar/library/356
 2140/key/3511585983/Equinox_-_Descenso_de_la_Serpiente
CREATED:20230224T220219Z
LAST-MODIFIED:20230224T220219Z
DTSTAMP:20260421T122251Z
CLASS:PUBLIC
STATUS:CONFIRMED
TRANSP:TRANSPARENT
SEQUENCE:1
END:VEVENT
END:VCALENDAR
