BEGIN:VCALENDAR
VERSION:2.0
BEGIN:VEVENT
UID:EC70E2CD-ABBC-4900-9CF1-0F5279346510
DTSTART:20240615T100000Z
DTEND:20240615T130000Z
SUMMARY:3rd Annual Father's Remembrance Car SHow
DESCRIPTION:Come together to celebrate fathers\, past and present\, with ou
 r Father's Remembrance Car Show which is held every year on the Saturday b
 efore Father's Day. \n  \nFather's Remembrance Car Show is a family-friend
 ly event in which we honor the fathers who have passed away along with fat
 hers who have lost children. We invite families to come to enjoy music\, f
 ood trucks\, drinks\, some family fun\, a sense of community\, and - of co
 urse - cars. \n  \nWe will have 3 People Choice Award trophies to give out
  to participants. Also those who enter a car will receive two free meal an
 d drink tickets. \n  \nThis event is free to attend\, and car registration
  for the event is also free! To enter your car into our Father's Remembran
 ce Car Show\, please fill out the registration form on this webpage\, http
 s://www.hughesftc.com/fathers-remembrance-car-show.\nHughes Family Tribute
  Center\n9700 Webb Chapel Road\nDallas\, TX 75220 United States\n
LOCATION:9700 Webb Chapel Road\, Dallas\, TX 75220
URL:http://oakcliff.bubblelife.com/community/oak_cliff_calendar/library/356
 2140/key/3511816452/3rd_Annual_Fathers_Remembrance_Car_SHow
CREATED:20240610T144039Z
LAST-MODIFIED:20240610T144039Z
DTSTAMP:20260421T090753Z
CLASS:PUBLIC
STATUS:CONFIRMED
TRANSP:TRANSPARENT
SEQUENCE:1
END:VEVENT
END:VCALENDAR
