BEGIN:VCALENDAR
VERSION:2.0
BEGIN:VEVENT
UID:77935FC9-3EBB-440B-95DD-2ABF34D028AA
DTSTART:20250501T200000Z
DTEND:20250511T163000Z
SUMMARY:A Dallas Hedda
URL:http://oakcliff.bubblelife.com/community/bishop_arts_theatre_center_4/l
 ibrary/3517220424/key/3511896433/A_Dallas_Hedda
CREATED:20240729T162123Z
LAST-MODIFIED:20240729T162123Z
DTSTAMP:20260419T130015Z
CLASS:PUBLIC
STATUS:CONFIRMED
TRANSP:TRANSPARENT
SEQUENCE:1
END:VEVENT
END:VCALENDAR
