BEGIN:VCALENDAR
VERSION:2.0
BEGIN:VEVENT
UID:75663957-6FCF-4C31-9577-294CE989F08A
DTSTART:20230513T160000Z
DTEND:20230513T173000Z
SUMMARY:Mother's Day Butterfly Release
DESCRIPTION:Hughes Family Tribute Center will hold a Mother’s Day Open Hous
 e and Butterfly Release on Saturday\, May 13 from 4:00 to 5:30 p.m. This i
 s a special event to honor and remember mothers or children who have passe
 d on\, but their love remains. \nThe public is invited to tour their 13\,6
 10 square-foot facility\, enjoy music by Alebreje\, and celebrate all moth
 ers with a butterfly release. \n Event Details: \nSaturday\, May 13\, 2023
  \nHughes Family Tribute Center \n9700 Webb Chapel Road\, Dallas\, Texas 7
 5220 \n  \n-        4:00 p.m.- Start of Event with Performances by Alebrij
 e \n-        Light Refreshments will be Served \n-        5:00 p.m.- A MOM
 ent of Reflection and Remembrance \n-        5:15 p.m.- Live Butterfly Rel
 ease \n-        5:30 p.m.- End of Event \nTo reserve a butterfly for you a
 nd your family\, please RSVP by Sunday\, May 7\, 2023 to our event via htt
 ps://www.facebook.com/events/181644821342350 or email info@hughesftc.com\n
 Hughes Family Tribute\n9700 Webb Chapel Road\nDallas\, TX 75220 United Sta
 tes\n
LOCATION:9700 Webb Chapel Road\, Dallas\, TX 75220
URL:http://oakcliff.bubblelife.com/community/oak_cliff_calendar/library/356
 2140/key/3511948942/Mothers_Day_Butterfly_Release
CREATED:20230414T181112Z
LAST-MODIFIED:20230414T181112Z
DTSTAMP:20260421T103338Z
CLASS:PUBLIC
STATUS:CONFIRMED
TRANSP:TRANSPARENT
SEQUENCE:1
END:VEVENT
END:VCALENDAR
