BEGIN:VCALENDAR
VERSION:2.0
BEGIN:VEVENT
UID:9071465F-2C74-45C2-B744-EBCF78AE783C
DTSTART:20230617T100000Z
DTEND:20230617T130000Z
SUMMARY:Father's Day Remembrance Car Show
DESCRIPTION:Hughes Family Tribute Center will hold a Father’s Day Remembran
 ce Car Show\, an event honoring fathers that have both passed on and are s
 till with us. \nThe 2nd Annual Father’s Day Remembrance Car Show will retu
 rn this June at Hughes Family Tribute Center offering a free\, fun day out
  for families to honor the fathers in their lives. There will be cars of a
 ll different kinds\, along with free food\, beer\, kids’ activities\, and
  an opportunity for the community to get to know their local\, family-owne
 d funeral home staff. \nThose interested in entering their vehicles (motor
 cycles included) into the people’s choice competition for a chance at a 1s
 t\, 2nd  and 3rd place trophy can email kate@hughesftc.com or call the fun
 eral home at 214-350-9951. Vehicle entry will begin at 9:30 AM on June 17t
 h. Registration is completely free\, as well as attendance to the event. \
 n Event Details: \n  \nSaturday\, June 17 from 10:00 a.m. to 1:00 p.m. \nH
 ughes Family Tribute Center \n9700 Webb Chapel Road\, Dallas\, Texas 75220
 \nHughes Family Tribute Center\n9700 Webb Chapel Road\nDallas\, TX 75220 U
 nited States\n
LOCATION:9700 Webb Chapel Road\, Dallas\, TX 75220
URL:http://oakcliff.bubblelife.com/community/oak_cliff_calendar/library/356
 2140/key/3511958392/Fathers_Day_Remembrance_Car_Show
CREATED:20230608T150123Z
LAST-MODIFIED:20230608T150123Z
DTSTAMP:20260421T103338Z
CLASS:PUBLIC
STATUS:CONFIRMED
TRANSP:TRANSPARENT
SEQUENCE:1
END:VEVENT
END:VCALENDAR
